BEGIN:VCALENDAR
VERSION:2.0
PRODID:-//Squarespace Inc/Squarespace 6//v6//EN
BEGIN:VEVENT
UID:601babba86967e11baabf4ea@squarespace.com
DTSTAMP:20210204T081651Z
DTSTART:20210507T213000Z
DTEND:20210508T003000Z
SUMMARY:Grafton to Inverell - NRS Road Race 
END:VEVENT
END:VCALENDAR
