BEGIN:VCALENDAR
VERSION:2.0
PRODID:-//Squarespace Inc/Squarespace 6//v6//EN
BEGIN:VEVENT
UID:601baaf4b0f45f7f3497b473@squarespace.com
DTSTAMP:20210204T080926Z
DTSTART:20210408T213000Z
DTEND:20210409T073000Z
SUMMARY:Tour  De Brisbane - Elite Men's Road Race
END:VEVENT
END:VCALENDAR
