BEGIN:VCALENDAR
VERSION:2.0
PRODID:-//Squarespace Inc/Squarespace 6//v6//EN
BEGIN:VEVENT
UID:601ba85ce5d3c43b5158f5ac@squarespace.com
DTSTAMP:20210204T075806Z
DTSTART:20210205T030000Z
DTEND:20210205T070000Z
SUMMARY:2021 Federation UNI Road National Championship - Criterium
END:VEVENT
END:VCALENDAR
