BEGIN:VCALENDAR
VERSION:2.0
PRODID:-//Squarespace Inc/Squarespace 6//v6//EN
BEGIN:VEVENT
UID:601ba922b0f45f7f3497a414@squarespace.com
DTSTAMP:20210204T081806Z
DTSTART:20210212T180000Z
DTEND:20210213T050000Z
SUMMARY:Powercor Melbourne to Warrnambool Cycling Classic
END:VEVENT
END:VCALENDAR
