BEGIN:VCALENDAR
VERSION:2.0
PRODID:-//Squarespace Inc/Squarespace 6//v6//EN
BEGIN:VEVENT
UID:5ff169d9461d8d43a3f22c58@squarespace.com
DTSTAMP:20210103T065413Z
DTSTART:20210118T190000Z
DTEND:20210123T200000Z
SUMMARY:Santos Festival of Cycling
END:VEVENT
END:VCALENDAR
